BEGIN:VCALENDAR
VERSION:2.0
PRODID:icalendar-ruby
CALSCALE:GREGORIAN
METHOD:PUBLISH
BEGIN:VEVENT
DTSTAMP:20260420T150925Z
UID:336-4722025@crossroadssechelt.com
DTSTART;VALUE=DATE:20260920
DTEND;VALUE=DATE:20260920
CLASS:PUBLIC
CREATED:20260420T054614
DESCRIPTION:Join us at Crossroads' Ministry Center for worship and the mess
 age Sunday mornings at 9:00 AM and 11:00 AM.\nBoth of our Sunday services 
 feature passionate\, Spirit-led worship that reflects our values and invit
 es people into God’s presence. Children receive excellent care and bibli
 cal teachings in Sunday School. Prayer teams are ready to meet with you af
 ter the service.\nWe look forward to worshiping with you!\n Our live-strea
 med service is available on YouTube at 9:00AM and available for viewing la
 ter in the week\, on our website.\n 
LAST-MODIFIED:20260420T054614
LOCATION:CMC - 5116 Davis Bay Road
SUMMARY:Sunday Services
URL;VALUE=URI:https://www.crossroadssechelt.com/events/sunday-services--336
 /2026-09-20
ATTACH;FILENAME=Gospel-of-Luke-%281500-x-784-px%29-%281%29.png;FMTTYPE=imag
 e/png:https://dq5pwpg1q8ru0.cloudfront.net/2026/04/09/22/02/48/e911f909-02
 71-4ac9-8241-73c9665dbc7c/Gospel-of-Luke-%25281500-x-784-px%2529-%25281%25
 29.png
END:VEVENT
END:VCALENDAR
