BEGIN:VCALENDAR
VERSION:2.0
PRODID:icalendar-ruby
CALSCALE:GREGORIAN
METHOD:PUBLISH
BEGIN:VEVENT
DTSTAMP:20260420T224612Z
UID:283-4728862@crossroadssechelt.com
DTSTART:20261022T020000Z
DTEND:20261022T030000Z
CLASS:PUBLIC
CREATED:20260420T133012
DESCRIPTION:You are invited to join us at CMC Wednesday nights to pray. \nW
 e will be pressing in to both share our hearts and hear God’s heart for 
 us. \nAll are welcome.
LAST-MODIFIED:20260420T133012
LOCATION:CMC - 5116 Davis Bay Road
SUMMARY:Corporate Prayer
URL;VALUE=URI:https://www.crossroadssechelt.com/events/corporate-prayer/202
 6-10-21
ATTACH;FILENAME=PRAY.png;FMTTYPE=image/png:https://dq5pwpg1q8ru0.cloudfront
 .net/2024/09/19/17/07/07/4846ba48-1f38-423c-818e-fb3f781e137e/PRAY.png
END:VEVENT
END:VCALENDAR
